BEGIN:VCALENDAR
VERSION:2.0
PRODID:-//BBIM - ECPv5.16.2//NONSGML v1.0//EN
CALSCALE:GREGORIAN
METHOD:PUBLISH
X-WR-CALNAME:BBIM
X-ORIGINAL-URL:https://bbim.org.au
X-WR-CALDESC:Events for BBIM
REFRESH-INTERVAL;VALUE=DURATION:PT1H
X-Robots-Tag:noindex
X-PUBLISHED-TTL:PT1H
BEGIN:VTIMEZONE
TZID:UTC
BEGIN:STANDARD
TZOFFSETFROM:+0000
TZOFFSETTO:+0000
TZNAME:UTC
DTSTART:20220101T000000
END:STANDARD
END:VTIMEZONE
BEGIN:VEVENT
DTSTART;TZID=UTC:20221008T160000
DTEND;TZID=UTC:20221210T173000
DTSTAMP:20260422T020022
CREATED:20160516T135016Z
LAST-MODIFIED:20230403T031934Z
UID:1613-1665244800-1670693400@bbim.org.au
SUMMARY:以經解經的研經系列 -《约翰福音》
DESCRIPTION:日期：2022年10月8日\n時間：週六6pm – 7.30pm\n聚會方式：網路 Zoom\n詢問：0403 698 646 （Jack）\nEmail：bbimaustralia@gmail.com
URL:https://bbim.org.au/events/%e7%ba%a6%e7%bf%b0%e7%a6%8f%e9%9f%b3/
LOCATION:Zoom\, Online\, Melbourne\, Australia
CATEGORIES:研經系列
ATTACH;FMTTYPE=image/jpeg:https://bbim.org.au/wp-content/uploads/2022/03/bible4b.jpg
ORGANIZER;CN="BBIM":MAILTO:bbimaustralia@gmail.com
END:VEVENT
END:VCALENDAR