BEGIN:VCALENDAR
VERSION:2.0
PRODID:-//BBIM - ECPv5.16.2//NONSGML v1.0//EN
CALSCALE:GREGORIAN
METHOD:PUBLISH
X-WR-CALNAME:BBIM
X-ORIGINAL-URL:https://bbim.org.au
X-WR-CALDESC:Events for BBIM
REFRESH-INTERVAL;VALUE=DURATION:PT1H
X-Robots-Tag:noindex
X-PUBLISHED-TTL:PT1H
BEGIN:VTIMEZONE
TZID:UTC
BEGIN:STANDARD
TZOFFSETFROM:+0000
TZOFFSETTO:+0000
TZNAME:UTC
DTSTART:20230101T000000
END:STANDARD
END:VTIMEZONE
BEGIN:VEVENT
DTSTART;TZID=UTC:20230101T210000
DTEND;TZID=UTC:20230630T220000
DTSTAMP:20260421T185044
CREATED:20221212T033538Z
LAST-MODIFIED:20230928T034822Z
UID:5995-1672606800-1688162400@bbim.org.au
SUMMARY:BBIM 晚灵修
DESCRIPTION:每天晚灵修\n墨爾本时间：9:00pm – 10:00pm\n北京时间：6:00pm – 7:00pm\n上課方式：Zoom:89741422310\n詢問：+61 426 738 276 （Amelia）\nEmail：bbimaustralia@gmail.com \n簡介\n青草地是啟發之後孕育而生的一個網上團契，這裡有神豐富的供應，充滿恩典和真理，給一些沒有屬靈家園的小羊\n預備一個溫馨的家。生命的分享和互動，彼此鼓勵守望。
URL:https://bbim.org.au/events/bbim-%e6%99%9a%e7%81%b5%e4%bf%ae/
LOCATION:Zoom\, Online\, Melbourne\, Australia
CATEGORIES:最新新闻
END:VEVENT
END:VCALENDAR