BEGIN:VCALENDAR
VERSION:2.0
PRODID:-//BBIM - ECPv5.16.2//NONSGML v1.0//EN
CALSCALE:GREGORIAN
METHOD:PUBLISH
X-WR-CALNAME:BBIM
X-ORIGINAL-URL:https://bbim.org.au
X-WR-CALDESC:Events for BBIM
REFRESH-INTERVAL;VALUE=DURATION:PT1H
X-Robots-Tag:noindex
X-PUBLISHED-TTL:PT1H
BEGIN:VTIMEZONE
TZID:UTC
BEGIN:STANDARD
TZOFFSETFROM:+0000
TZOFFSETTO:+0000
TZNAME:UTC
DTSTART:20220101T000000
END:STANDARD
END:VTIMEZONE
BEGIN:VEVENT
DTSTART;TZID=UTC:20220212T180000
DTEND;TZID=UTC:20220827T193000
DTSTAMP:20260422T111348
CREATED:20160616T092556Z
LAST-MODIFIED:20220525T070755Z
UID:4241-1644688800-1661628600@bbim.org.au
SUMMARY:以經解經的研經系列 -《希伯來書》
DESCRIPTION:日期：2月12日-8月26日 （共30小時）\n時間：週六6pm – 7.30pm\n聚會方式：網路 Zoom\n詢問：0403 698 646 （Jack）\nEmail：bbimaustralia@gmail.com
URL:https://bbim.org.au/events/%e5%b8%8c%e4%bc%af%e4%be%86%e6%9b%b8-2/
LOCATION:網路Zoom\, Melbourne\, Australia
CATEGORIES:最新新闻
ATTACH;FMTTYPE=image/jpeg:https://bbim.org.au/wp-content/uploads/2022/03/bible5-e1653462464433.jpg
ORGANIZER;CN="BBIM":MAILTO:bbimaustralia@gmail.com
END:VEVENT
END:VCALENDAR